BEGIN:VCALENDAR
VERSION:2.0
PRODID:-//Official Website for the Town of York - ECPv5.16.4//NONSGML v1.0//EN
CALSCALE:GREGORIAN
METHOD:PUBLISH
X-WR-CALNAME:Official Website for the Town of York
X-ORIGINAL-URL:https://townofyorkwi.com
X-WR-CALDESC:Events for Official Website for the Town of York
REFRESH-INTERVAL;VALUE=DURATION:PT1H
X-Robots-Tag:noindex
X-PUBLISHED-TTL:PT1H
BEGIN:VTIMEZONE
TZID:UTC
BEGIN:STANDARD
TZOFFSETFROM:+0000
TZOFFSETTO:+0000
TZNAME:UTC
DTSTART:20240101T000000
END:STANDARD
END:VTIMEZONE
BEGIN:VEVENT
DTSTART;TZID=UTC:20240509T090000
DTEND;TZID=UTC:20240509T110000
DTSTAMP:20260420T081920
CREATED:20240509T000749Z
LAST-MODIFIED:20240509T000749Z
UID:366-1715245200-1715252400@townofyorkwi.com
SUMMARY:Open Book
DESCRIPTION:
URL:https://townofyorkwi.com/event/open-book/
CATEGORIES:Town Board
END:VEVENT
END:VCALENDAR