BEGIN:VCALENDAR
VERSION:2.0
PRODID:-//Official Website for the Town of York - ECPv5.16.4//NONSGML v1.0//EN
CALSCALE:GREGORIAN
METHOD:PUBLISH
X-WR-CALNAME:Official Website for the Town of York
X-ORIGINAL-URL:https://townofyorkwi.com
X-WR-CALDESC:Events for Official Website for the Town of York
REFRESH-INTERVAL;VALUE=DURATION:PT1H
X-Robots-Tag:noindex
X-PUBLISHED-TTL:PT1H
BEGIN:VTIMEZONE
TZID:UTC
BEGIN:STANDARD
TZOFFSETFROM:+0000
TZOFFSETTO:+0000
TZNAME:UTC
DTSTART:20240101T000000
END:STANDARD
END:VTIMEZONE
BEGIN:VEVENT
DTSTART;TZID=UTC:20240416T190000
DTEND;TZID=UTC:20240416T190000
DTSTAMP:20260420T083733
CREATED:20240414T204626Z
LAST-MODIFIED:20240414T204626Z
UID:357-1713294000-1713294000@townofyorkwi.com
SUMMARY:Town Annual Meeting
DESCRIPTION:
URL:https://townofyorkwi.com/event/town-annual-meeting/
CATEGORIES:Town Board
END:VEVENT
END:VCALENDAR